Workbook

Sheet صورت وضعیت
A20: صندوق سرمایه‌گذاری اختصاصی بازارگردان صنعت مس
A21: صورت وضعیت پرتفوی
A22: برای ماه منتهی به 1405/06/31

Sheet سهام
A1: صندوق سرمایه‌گذاری اختصاصی بازارگردان صنعت مس
A2: صورت وضعیت پرتفوی
A3: برای ماه منتهی به 1405/06/31
A4: -1 | B4: سرمایه‌گذاری‌ها
A5: -1-1 | C5: سرمایه‌گذاری در سهام و حق تقدم سهام
E6: 1405/05/31 | K6: تغییرات طی دوره | S6: 1405/06/31
K7: خرید طی دوره | O7: فروش طی دوره
A8: نام شرکت | E8: تعداد | G8: بهای تمام شده | I8: خالص ارزش فروش | K8: تعداد | M8: بهای تمام شده | O8: تعداد | Q8: مبلغ فروش | S8: تعداد | U8: قیمت بازار هر سهم | W8: بهای تمام شده | Y8: خالص ارزش فروش | AA8: درصد به کل دارایی‌ها
A9: ملی‌ صنایع‌ مس‌ ایران‌ | E9: 1890917235 | G9: 12174852209425 | I9: 3.6240229e+13 | K9: 83485000 | M9: 2113974367080 | O9: -212181000 | Q9: 4980622641428 | S9: 1762221235 | U9: 24310 | W9: 12918695367634 | Y9: 4.280704e+13 | AA9: 58.424948
A10: تامین سرمایه کیمیا | E10: 3679974850 | G10: 7196107830917 | I10: 9.8033567e+12 | K10: 501345983 | M10: 17194806892 | O10: -16120009 | Q10: 47040168338 | S10: 4165200824 | U10: 2134 | W10: 6306367530854 | Y10: 8.8817833e+12 | AA10: 12.122252
A11: سرمایه‌گذاری مس سرچشمه | E11: 174925821 | G11: 887156904743 | I11: 8.5473717e+11 | K11: 6900000 | M11: 53078528127 | O11: -105300000 | Q11: 688690199246 | S11: 76525821 | U11: 7990 | W11: 403621897814 | Y11: 6.1097661e+11 | AA11: 0.83388799
A12: ح. تامین سرمایه کیمیا | D12: 0 | G12: 0 | I12: 0 | K12: 1706447914 | M12: 0 | O12: 0 | Q12: 0 | S12: 1706447914 | U12: 1134 | W12: 875407779882 | Y12: 1.9336412e+12 | AA12: 2.6391194
A13: جمع | E13: =SUM(D9:E12) -> 5745817906 | G13: =SUM(G9:G12) -> 20258116945085 | I13: =SUM(I9:I12) -> 4.6898323e+13 | K13: =SUM(K9:K12) -> 2298178897 | M13: =SUM(M9:M12) -> 2184247702099 | O13: =SUM(O9:O12) -> -333601009 | Q13: =SUM(Q9:Q12) -> 5716353009012 | S13: =SUM(S9:S12) -> 7710395794 | U13: =SUM(U9:U12) -> 35568 | W13: =SUM(W9:W12) -> 20504092576184 | Y13: =SUM(Y9:Y12)+1 -> 5.4233441e+13 | AA13: =SUM(AA9:AA12) -> 74.020207

Sheet واحدهای صندوق
A1: صندوق سرمایه‌گذاری اختصاصی بازارگردان صنعت مس
A2: صورت وضعیت پرتفوی
A3: برای ماه منتهی به 1405/06/31
A5: -2-1 | B5: سرمایه‌گذاری در واحدهای صندوق‌های سرمایه‌گذاری
D6: 1405/05/31 | J6: تغییرات طی دوره | R6: 1405/06/31
J7: خرید/صدور طی دوره | N7: فروش/ابطال طی دوره
A8: صندوق | D8: تعداد واحد | F8: بهای تمام شده | H8: خالص ارزش فروش | J8: تعداد | L8: بهای تمام شده | N8: تعداد | P8: مبلغ فروش | R8: تعداد | T8: قیمت ابطال / بازار هر واحد | V8: بهای تمام شده | X8: خالص ارزش فروش | Z8: درصد به کل دارایی‌ها
A9: ص. س. درآمد ثابت آبی هامون | D9: 4990000 | F9: 49918400625 | H9: 49881599375 | J9: 0 | L9: 0 | N9: 0 | P9: 0 | R9: 4990000 | T9: 10345 | V9: 49918400625 | X9: 5.1602515e+10 | Z9: 0.070429402
A10: ص. س. درآمد ثابت کیمیا | D10: 195533284 | F10: 4563465427276 | H10: 4.7262514e+12 | J10: 187271864 | L10: 4599272370165 | N10: -6140 | P10: 150018543 | R10: 382799008 | T10: 24888 | V10: 9162587948647 | X10: 9.5235886e+12 | Z10: 12.998216
A11: ص. س. تداوم اطمینان تمدن | D11: 50577345 | F11: 1249485596266 | H11: 1.3025942e+12 | J11: 44265507 | L11: 1160806483941 | N11: -10054219 | P11: 266102026014 | R11: 84788633 | T11: 26503 | V11: 2154322956628 | X11: 2.2463245e+12 | Z11: 3.0658834
A12: ص. س. اعتماد آفرین پارسیان | D12: 14245276 | F12: 1890592641259 | H12: 1.9418835e+12 | J12: 4928099 | L12: 683689959702 | N12: -7658100 | P12: 1070176712803 | R12: 11515275 | T12: 140238 | V12: 1537430712508 | X12: 1.6142836e+12 | Z12: 2.203246
A13: ص. س. پایا ثروت پویا | D13: 82644867 | F13: 2035400115480 | H13: 2.2705739e+12 | J13: 0 | L13: 0 | N13: -69631 | P13: 1931478129 | R13: 82575236 | T13: 28294 | V13: 2033695059356 | X13: 2.3355222e+12 | Z13: 3.1876243
A14: ص. س. آرامش | D14: 156644000 | F14: 2771752599409 | H14: 3.0747274e+12 | J14: 0 | L14: 0 | N14: -22021321 | P14: 444001184968 | R14: 134622679 | T14: 20224 | V14: 2389608940974 | X14: 2.7216051e+12 | Z14: 3.7145674
A15: ص. س سپر سرمایه بیدار | D15: 11313328 | F15: 412829529092 | H15: 5.1654571e+11 | J15: 0 | L15: 0 | N15: 0 | P15: 0 | R15: 11313328 | T15: 47040 | V15: 412829529092 | X15: 5.3198271e+11 | Z15: 0.72607361
A16: جمع | D16: =SUM(D9:D15) -> 515948100 | F16: =SUM(F9:F15) -> 12973444309407 | H16: =SUM(H9:H15) -> 1.3882458e+13 | J16: =SUM(J9:J15) -> 236465470 | L16: =SUM(L9:L15) -> 6443768813808 | N16: =SUM(N9:N15) -> -39809411 | P16: =SUM(P9:P15) -> 1782361420457 | R16: =SUM(R9:R15) -> 712604159 | V16: =SUM(V9:V15) -> 17740393547830 | X16: =SUM(X9:X15) -> 1.9024909e+13 | Z16: =SUM(Z9:Z15) -> 25.96604

Sheet اوراق
A1: صندوق سرمایه‌گذاری اختصاصی بازارگردان صنعت مس
A2: صورت وضعیت پرتفوی
A3: برای ماه منتهی به 1405/06/31
A5: -3-1 | B5: سرمایه‌گذاری در اوراق بهادار با درآمد ثابت یا علی‌الحساب
A6: اطلاعات اوراق با درآمد ثابت | P6: 1405/05/31 | V6: تغییرات طی دوره | AD6: 1405/06/31
V7: خرید طی دوره | Z7: فروش طی دوره
A8: نام اوراق | D8: دارای مجوز از سازمان | F8: پذیرفته شده در بورس یا فرابورس | H8: تاریخ انتشار اوراق | J8: تاریخ سررسید | L8: نرخ سود اسمی | N8: نرخ سود موثر | P8: تعداد | R8: بهای تمام شده | T8: خالص ارزش فروش | V8: تعداد | X8: بهای تمام شده | Z8: تعداد | AB8: مبلغ فروش | AD8: تعداد | AF8: قیمت بازار هر سهم | AH8: بهای تمام شده | AJ8: خالص ارزش فروش | AL8: درصد به کل دارایی‌ها
A9: مرابحه عام دولت186-ش.خ051124 | D9: بله | F9: بله | H9: 1403/07/24 | J9: 1405/11/24 | L9: 23 | N9: 23 | P9: 10000 | R9: 9609962175 | T9: 9427060423 | V9: 0 | X9: 0 | Z9: 0 | AB9: 0 | AD9: 10000 | AF9: 952000 | AH9: 9609962175 | AJ9: 9513098000 | AL9: 0.01
A10: جمع | P10: 10000 | R10: =SUM(R9) -> 9609962175 | T10: =SUM(T9) -> 9427060423 | V10: 0 | X10: 0 | Z10: 0 | AB10: 0 | AD10: 10000 | AF10: 952000 | AH10: 9609962175 | AJ10: 9513098000 | AL10: 0.01

Sheet سپرده
A1: صندوق سرمایه‌گذاری اختصاصی بازارگردان صنعت مس
A2: صورت وضعیت پرتفوی
A3: برای ماه منتهی به 1405/06/31
A5: -4-1 | B5: سرمایه‌گذاری در سپرده‌ بانکی
D6: 1405/05/31 | F6: تغییرات طی دوره | J6: 1405/06/31
A8: سپرده‌های بانکی | D8: مبلغ | F8: افزایش | H8: کاهش | J8: مبلغ | L8: درصد به کل دارایی‌ها
A9: سپرده‌‌های کوتاه مدت | D9: 382115763 | F9: 685818357151 | H9: 685637339939 | J9: 563132975 | L9: 0
A10: جمع | D10: =SUM(D9:D9) -> 382115763 | F10: 685818357151 | H10: 685637339939 | J10: 563132975 | L10: 0

Sheet درآمد
A1: صندوق سرمایه‌گذاری اختصاصی بازارگردان صنعت مس
A2: صورت وضعیت درآمدها
A3: برای ماه منتهی به 1405/06/31
A5: -2 | B5: درآمد حاصل از سرمایه‌گذاری‌ها
C6: طی ماه | L6: از ابتدای سال مالی
A7: شرح | D7: یادداشت | F7: مبلغ | H7: درصد از کل درآمدها | J7: درصد از کل دارایی‌ها | L7: مبلغ | N7: درصد از کل درآمدها | P7: درصد از کل دارایی‌ها
A8: درآمد حاصل از سرمایه‌گذاری در سهام و حق تقدم سهام | D8: 1-2 | F8: ='درآمد سرمایه‌گذاری در سهام'!J13 -> 10867223620450 | H8: =F8/F12*100 -> 95.758577 | J8: 14.832069 | L8: ='درآمد سرمایه‌گذاری در سهام'!T13 -> 36735676927405 | N8: =L8/L12*100 -> 95.049783 | P8: 50.14
A9: درآمد حاصل از سرمایه‌گذاری در واحدهای صندوق‌های سرمایه‌گذاری | D9: 2-2 | F9: ='درآمد سرمایه‌گذاری در صندوق'!J16 -> 481044215366 | H9: =F9/F12*100 -> 4.2388113 | J9: 0.65655049 | L9: ='درآمد سرمایه‌گذاری در صندوق'!T16 -> 1912807221187 | N9: =L9/L12*100 -> 4.9491918 | P9: 2.6106842
A10: درآمد حاصل از سرمایه‌گذاری در اوراق بهادار با درآمد ثابت | D10: 3-2 | F10: ='درآمد سرمایه‌گذاری در اوراق به'!J10 -> 294372957 | H10: =F10/F12*100 -> 0.0025939225 | J10: 0.00040177327 | L10: ='درآمد سرمایه‌گذاری در اوراق به'!R10 -> 391109734 | N10: =L10/L12*100 -> 0.0010119562 | P10: 0.00053380392
A11: درآمد حاصل از سرمایه‌گذاری در سپرده بانکی | D11: 4-2 | F11: ='درآمد سپرده بانکی'!D9 -> 1973246 | H11: =F11/F12*100 -> 1.7387627e-05 | J11: 2.6931737e-06 | L11: ='درآمد سپرده بانکی'!H9 -> 5215386 | N11: =L11/L12*100 -> 1.3494274e-05 | P11: 7.1181902e-06
A12: جمع | F12: =SUM(F8:F11) -> 11348564182019 | H12: =SUM(H8:H11) -> 100 | J12: =SUM(J8:J11) -> 15.489024 | L12: =SUM(L8:L11) -> 38648880473712 | N12: =SUM(N8:N11) -> 100 | P12: =SUM(P8:P11) -> 52.751225

Sheet درآمد سرمایه‌گذاری در سهام
A1: صندوق سرمایه‌گذاری اختصاصی بازارگردان صنعت مس
A2: صورت وضعیت درآمدها
A3: برای ماه منتهی به 1405/06/31
A5: -1-2 | B5: درآمد حاصل از سرمایه‌گذاری در سهام و حق تقدم سهام
D6: طی ماه | N6: از ابتدای سال مالی
J7: جمع | T7: جمع
A8: سهام | D8: درآمد سود سهام | F8: درآمد تغییر ارزش | H8: درآمد فروش | J8: مبلغ | L8: درصد از کل درآمدها | N8: درآمد سود سهام | P8: درآمد تغییر ارزش | R8: درآمد فروش | T8: مبلغ | V8: درصد از کل درآمدها
A9: ملی‌ صنایع‌ مس‌ ایران‌ | D9: 0 | F9: 6712768226764 | H9: 2720691130836 | J9: =SUM(D9:H9) -> 9433459357600 | L9: 83.124695 | N9: 659476685700 | P9: 22840291442938 | R9: 5926240185611 | T9: =R9+P9+N9 -> 29426008314249 | V9: 79.199704
A10: تامین سرمایه کیمیا | D10: 0 | F10: -37952395583 | H10: 21632073765 | J10: =SUM(D10:H10) -> -16320321818 | L10: -0.14380957 | N10: 1494690820800 | P10: 3966876025363 | R10: 47153138496 | T10: =R10+P10+N10 -> 5508719984659 | V10: 10.803705
A11: سرمایه‌گذاری مس سرچشمه | D11: 0 | F11: 146636881695 | H11: 245214233450 | J11: =SUM(D11:H11) -> 391851115145 | L11: 3.4528695 | N11: 74727125279 | P11: 270392949942 | R11: 397595083753 | T11: 742715158974 | V11: 1.9990078
A12: ح.تامین سرمایه کیمیا | D12: 0 | F12: 1058233469523 | H12: 0 | J12: =SUM(D12:H12) -> 1058233469523 | L12: 9.3248225 | N12: 0 | P12: 1058233469523 | R12: 0 | T12: =R12+P12+N12 -> 1058233469523 | V12: 2.8482211
A13: جمع | D13: 0 | F13: =SUM(F9:F12) -> 7879686182399 | H13: =SUM(H9:H12) -> 2987537438051 | J13: =SUM(J9:J12) -> 10867223620450 | L13: =SUM(L9:L12) -> 95.758577 | N13: =SUM(N9:N12) -> 2228894631779 | P13: =SUM(P9:P12) -> 28135793887766 | R13: =SUM(R9:R12) -> 6370988407860 | T13: =SUM(T9:T12) -> 36735676927405 | V13: =SUM(V9:V12) -> 94.850638

Sheet درآمد سرمایه‌گذاری در صندوق
A1: صندوق سرمایه‌گذاری اختصاصی بازارگردان صنعت مس
A2: صورت وضعیت درآمدها
A3: برای ماه منتهی به 1405/06/31
A5: -2-2 | B5: درآمد حاصل از سرمایه‌گذاری در واحدهای صندوق
D6: طی ماه | N6: از ابتدای سال مالی
J7: جمع | T7: جمع
A8: صندوق | D8: درآمد سود صندوق | F8: درآمد تغییر ارزش | H8: درآمد فروش | J8: مبلغ | L8: درصد از کل درآمدها | N8: درآمد سود صندوق | P8: درآمد تغییر ارزش | R8: درآمد فروش | T8: مبلغ | V8: درصد از کل درآمدها
A9: ص. س. آرامش | D9: 0 | F9: 40425871871 | H9: 50453051062 | J9: =SUM(D9:H9) -> 90878922933 | L9: 0.80079666 | N9: 0 | P9: 275590590034 | R9: 94216519278 | T9: =SUM(N9:R9) -> 369807109312 | V9: 0.99533084
A10: ص. س. درآمد ثابت کیمیا | D10: 0 | F10: 198214711942 | H10: 169749 | J10: =SUM(D10:H10) -> 198214881691 | L10: 1.7466076 | N10: 0 | P10: 361000643700 | R10: 99850465231 | T10: =SUM(N10:R10) -> 460851108931 | V10: 1.2403745
A11: ص. س. اعتماد آفرین پارسیان | D11: 0 | F11: 25636873284 | H11: 33250064694 | J11: =SUM(D11:H11) -> 58886937978 | L11: 0.51889329 | N11: 0 | P11: 76790812584 | R11: 317346992174 | T11: =SUM(N11:R11) -> 394137804758 | V11: 1.0608166
A12: ص. س. تداوم اطمینان تمدن | D12: 0 | F12: 39005865620 | H12: 10019971353 | J12: =SUM(D12:H12) -> 49025836973 | L12: 0.43200035 | N12: 0 | P12: 90970077896 | R12: 211440666272 | T12: =SUM(N12:R12) -> 302410744168 | V12: 0.81393444
A13: ص. س. پایا ثروت پویا | D13: 0 | F13: 66653300381 | H13: 226422005 | J13: =SUM(D13:H13) -> 66879722386 | L13: 0.58932321 | N13: 0 | P13: 301827126527 | R13: 244850069 | T13: =SUM(N13:R13) -> 302071976596 | V13: 0.81302265
A14: ص. س. سپر سرمایه بیدار | D14: 0 | F14: 15436998227 | H14: 0 | J14: =SUM(D14:H14) -> 15436998227 | L14: 0.136026 | N14: 0 | P14: 81844363494 | R14: 0 | T14: =SUM(N14:R14) -> 81844363494 | V14: 0.220283
A15: ص. س. درآمد ثابت آبی هامون | D15: 0 | F15: 1720915178 | H15: 0 | J15: =SUM(D15:H15) -> 1720915178 | L15: 0.015164167 | N15: 0 | P15: 1684113928 | R15: 0 | T15: =SUM(N15:R15) -> 1684113928 | V15: 0.0045327699
A16: جمع | D16: 0 | F16: =SUM(F9:F15) -> 387094536503 | H16: =SUM(H9:H15) -> 93949678863 | J16: =SUM(J9:J15) -> 481044215366 | L16: =SUM(L9:L15) -> 4.2388113 | N16: 0 | P16: =SUM(P9:P15) -> 1189707728163 | R16: =SUM(R9:R15) -> 723099493024 | T16: =SUM(T9:T15) -> 1912807221187 | V16: =SUM(V9:V15) -> 5.1482948

Sheet درآمد سرمایه‌گذاری در اوراق به
A1: صندوق سرمایه‌گذاری اختصاصی بازارگردان صنعت مس
A2: صورت وضعیت درآمدها
A3: برای ماه منتهی به 1405/06/31
A5: -3-2 | B5: درآمد حاصل از سرمایه‌گذاری در اوراق بهادار با درآمد ثابت
D6: طی ماه | L6: از ابتدای سال مالی
A8: عنوان | D8: درآمد سود اوراق | F8: درآمد تغییر ارزش | H8: درآمد فروش | J8: جمع | L8: درآمد سود اوراق | N8: درآمد تغییر ارزش | P8: درآمد فروش | R8: جمع
A9: مرابحه عام دولت186-ش.خ051124 | D9: 208335379 | F9: 86037578 | H9: 0 | J9: =SUM(D9:H9) -> 294372957 | L9: 487973909 | N9: -96864175 | P9: 0 | R9: =SUM(L9:P9) -> 391109734
A10: جمع | D10: 208335379 | F10: 86037578 | H10: 0 | J10: =H10+F10+D10 -> 294372957 | L10: 487973909 | N10: -96864175 | P10: 0 | R10: =P10+N10+L10 -> 391109734

Sheet درآمد سپرده بانکی
A1: صندوق سرمایه‌گذاری اختصاصی بازارگردان صنعت مس
A2: صورت وضعیت درآمدها
A3: برای ماه منتهی به 1405/06/31
A5: -4-2 | B5: درآمد حاصل از سرمایه‌گذاری در سپرده بانکی
D6: طی ماه | H6: از ابتدای سال مالی
A7: نام سپرده بانکی | D7: سود سپرده بانکی و گواهی سپرده | F7: درصد سود به میانگین سپرده | H7: سود سپرده بانکی و گواهی سپرده | J7: درصد سود به میانگین سپرده
A8: سپرده‌های کوتاه مدت | D8: 1973246 | H8: 5215386
A9: جمع | D9: 1973246 | H9: =SUM(H8:H8) -> 5215386

Sheet درآمد سود سهام
A1: صندوق سرمایه‌گذاری اختصاصی بازارگردان صنعت مس
A2: صورت وضعیت درآمدها
A3: برای ماه منتهی به 1405/06/31
A5: درآمد سود سهام
A6: نام سهام | C6: اطلاعات مجمع | I6: طی ماه | O6: از ابتدای سال مالی
C7: تاریخ تشکیل مجمع | E7: تعداد سهام متعلقه در زمان مجمع | G7: سود متعلق به هر سهم | I7: جمع درآمد سود سهام | K7: هزینه تنزیل | M7: خالص درآمد سود سهام | O7: جمع درآمد سود سهام | Q7: هزینه تنزیل | S7: خالص درآمد سود سهام
A8: ملی‌ صنایع‌ مس‌ ایران‌ | C8: 1405/04/31 | E8: 1465503746 | G8: 450 | I8: 0 | K8: 0 | M8: 0 | O8: 659476685700 | Q8: 0 | S8: =SUM(O8:Q8) -> 659476685700
A9: سرمایه‌گذاری مس سرچشمه | C9: 1405/04/31 | E9: 180925821 | G9: 430 | I9: 0 | K9: 0 | M9: 0 | O9: 77798103030 | Q9: -3070977751 | S9: =SUM(O9:Q9) -> 74727125279
A10: تامین سرمایه کیمیا | C10: 1405/02/19 | E10: 3736727052 | G10: 400 | I10: 0 | K10: 0 | M10: 0 | O10: 1494690820800 | Q10: 0 | S10: =SUM(O10:Q10) -> 1494690820800
A11: جمع | I11: 0 | K11: 0 | M11: 0 | O11: =SUM(O8:O10) -> 2231965609530 | Q11: =SUM(Q8:Q10) -> -3070977751 | S11: =SUM(S8:S10) -> 2228894631779

Sheet سود اوراق بهادار
A1: صندوق سرمایه‌گذاری اختصاصی بازارگردان صنعت مس
A2: صورت وضعیت درآمدها
A3: برای ماه منتهی به 1405/06/31
A5: سود اوراق بهادار با درآمد ثابت
A6: شرح | I6: طی ماه | O6: از ابتدای سال مالی
C7: تاریخ دریافت سود | E7: تاریخ سررسید | G7: نرخ سود علی الحساب | I7: درآمد سود | K7: هزینه تنزیل | M7: خالص درآمد | O7: درآمد سود | Q7: هزینه تنزیل | S7: خالص درآمد
A8: مرابحه عام دولت186-ش.خ051124 | E8: 1405/11/24 | G8: 23 | I8: 208335379 | K8: 0 | M8: =SUM(I8:K8) -> 208335379 | O8: 487973909 | Q8: 0 | S8: =SUM(O8:Q8) -> 487973909
A9: جمع | I9: 208335379 | K9: 0 | M9: =SUM(M8) -> 208335379 | O9: 487973909 | Q9: 0 | S9: =SUM(S8) -> 487973909

Sheet سود سپرده بانکی
A1: صندوق سرمایه‌گذاری اختصاصی بازارگردان صنعت مس
A2: صورت وضعیت درآمدها
A3: برای ماه منتهی به 1405/06/31
A5: سود سپرده بانکی
A6: شرح | C6: طی ماه | I6: از ابتدای سال مالی
C7: درآمد سود | E7: هزینه تنزیل | G7: خالص درآمد | I7: درآمد سود | K7: هزینه تنزیل | M7: خالص درآمد
A8: سپرده‌های کوتاه مدت | C8: 1973246 | E8: 0 | G8: =SUM(C8:E8) -> 1973246 | I8: 5215386 | K8: 0 | M8: =SUM(I8:K8) -> 5215386
A9: جمع | C9: =SUM(C8:C8) -> 1973246 | E9: 0 | G9: =SUM(G8) -> 1973246 | I9: =SUM(I8:I8) -> 5215386 | K9: 0 | M9: =SUM(M8) -> 5215386

Sheet درآمد ناشی از فروش
A1: صندوق سرمایه‌گذاری اختصاصی بازارگردان صنعت مس
A2: صورت وضعیت درآمدها
A3: برای ماه منتهی به 1405/06/31
A5: سود (زیان) حاصل از فروش اوراق بهادار
A6: شرح | C6: طی ماه | K6: از ابتدای سال مالی
C7: تعداد | E7: خالص بهای فروش | G7: ارزش دفتری | I7: سود و زیان ناشی از فروش | K7: تعداد | M7: خالص بهای فروش | O7: ارزش دفتری | Q7: سود و زیان ناشی از فروش
A8: ص. س. آرامش | C8: 22021321 | E8: 444001184968 | G8: =I8-E8 -> -393548133906 | I8: 50453051062 | K8: 72091321 | M8: 1372357087455 | O8: =Q8-M8 -> -1278140568177 | Q8: 94216519278
A9: ص. س. درآمد ثابت کیمیا | C9: 6140 | E9: 150018543 | G9: =I9-E9 -> -149848794 | I9: 169749 | K9: 358775560 | M9: 8057633668264 | O9: =Q9-M9 -> -7957783203033 | Q9: 99850465231
A10: ملی‌ صنایع‌ مس‌ ایران‌ | C10: 212181000 | E10: 4980622641428 | G10: =I10-E10 -> -2259931510592 | I10: 2720691130836 | K10: 852893010 | M10: 16530426453629 | O10: =Q10-M10 -> -10604186268018 | Q10: 5926240185611
A11: تامین سرمایه کیمیا | C11: 16120009 | E11: 47040168338 | G11: =I11-E11 -> -25408094573 | I11: 21632073765 | K11: 81390740 | M11: 175301672680 | O11: =Q11-M11 -> -128148534184 | Q11: 47153138496
A12: ص. س. اعتماد آفرین پارسیان | C12: 7658100 | E12: 1070176712803 | G12: =I12-E12 -> -1036926648109 | I12: 33250064694 | K12: 63531473 | M12: 8244748401198 | O12: =Q12-M12 -> -7927401409024 | Q12: 317346992174
A13: سرمایه‌گذاری مس سرچشمه | C13: 105300000 | E13: 688690199246 | G13: =I13-E13 -> -443475965796 | I13: 245214233450 | K13: 219858462 | M13: 1269387114324 | O13: =Q13-M13 -> -871792030571 | Q13: 397595083753
A14: ص. س. تداوم اطمینان تمدن | C14: 10054219 | E14: 266102026014 | G14: =I14-E14 -> -256082054661 | I14: 10019971353 | K14: 240609478 | M14: 5869080199043 | O14: =Q14-M14 -> -5657639532771 | Q14: 211440666272
A15: ص. س. پایا ثروت پویا | C15: 69631 | E15: 1931478129 | G15: =I15-E15 -> -1705056124 | I15: 226422005 | K15: 107269 | M15: 2871548886 | O15: =Q15-M15 -> -2626698817 | Q15: 244850069
A16: جمع | C16: =SUM(C8:C15) -> 373410420 | E16: =SUM(E8:E15) -> 7498714429469 | G16: =SUM(G8:G15) -> -4417227312555 | I16: =SUM(I8:I15) -> 3081487116914 | K16: =SUM(K8:K15) -> 1889257313 | M16: =SUM(M8:M15) -> 41521806145479 | O16: =SUM(O8:O15) -> -34427718244595 | Q16: =SUM(Q8:Q15) -> 7094087900884

Sheet درآمد ناشی از تغییر قیمت اوراق
A1: صندوق سرمایه‌گذاری اختصاصی بازارگردان صنعت مس
A2: صورت وضعیت درآمدها
A3: برای ماه منتهی به 1405/06/31
A5: درآمد ناشی از تغییر قیمت اوراق بهادار
A6: شرح | C6: طی ماه | K6: از ابتدای سال مالی
C7: تعداد | E7: خالص ارزش فروش | G7: ارزش دفتری | I7: سود و زیان ناشی از تغییر قیمت | K7: تعداد | M7: خالص ارزش فروش | O7: ارزش دفتری | Q7: سود و زیان ناشی از تغییر قیمت
A8: ملی‌ صنایع‌ مس‌ ایران‌ | C8: 1762221235 | E8: 42807040128201 | G8: =I8-E8 -> -36094271901437 | I8: 6712768226764 | K8: 1762221235 | M8: 42807040128201 | O8: =Q8-M8 -> -19966748685263 | Q8: 22840291442938
A9: صندوق تداوم اطمینان تمدن-ثابت | C9: 84788633 | E9: 2246324502678 | G9: =I9-E9 -> -2207318637058 | I9: 39005865620 | K9: 84788633 | M9: 2246324502678 | O9: =Q9-M9 -> -2155354424782 | Q9: 90970077896
A10: صندوق س.اعتماد آفرین پارسیان-د | C10: 11515275 | E10: 1614283648769 | G10: =I10-E10 -> -1588646775485 | I10: 25636873284 | K10: 11515275 | M10: 1614283648769 | O10: =Q10-M10 -> -1537492836185 | Q10: 76790812584
A11: سرمایه گذاری مس سرچشمه | C11: 76525821 | E11: 610976614395 | G11: =I11-E11 -> -464339732700 | I11: 146636881695 | K11: 76525821 | M11: 610976614395 | O11: =Q11-M11 -> -340583664453 | Q11: 270392949942
A12: صندوق س سپر سرمایه بیدار- ثابت | C12: 11313328 | E12: 531982708133 | G12: =I12-E12 -> -516545709906 | I12: 15436998227 | K12: 11313328 | M12: 531982708133 | O12: =Q12-M12 -> -450138344639 | Q12: 81844363494
A13: صندوق ص.س.درآمد ثابت کیمیا-د | C13: 382799008 | E13: 9523588592348 | G13: =I13-E13 -> -9325373880406 | I13: 198214711942 | K13: 382799008 | M13: 9523588592348 | O13: =Q13-M13 -> -9162587948648 | Q13: 361000643700
A14: تامین سرمایه کیمیا | C14: 4165200824 | E14: 8881783269112 | G14: =I14-E14 -> -8919735664695 | I14: -37952395583 | K14: 4165200824 | M14: 8881783269112 | O14: =Q14-M14 -> -4914907243749 | Q14: 3966876025363
A15: صندوق س.پایا ثروت پویا-د | C15: 82575236 | E15: 2335522185885 | G15: =I15-E15 -> -2268868885504 | I15: 66653300381 | K15: 82575236 | M15: 2335522185885 | O15: =Q15-M15 -> -2033695059358 | Q15: 301827126527
A16: صندوق سرمایه گذاری آرامش-ثابت | C16: 134622679 | E16: 2721605098005 | G16: =I16-E16 -> -2681179226134 | I16: 40425871871 | K16: 134622679 | M16: 2721605098005 | O16: =Q16-M16 -> -2446014507971 | Q16: 275590590034
A17: ص.س.درآمد ثابت آبی هامون-د | C17: 4990000 | E17: 51602514553 | G17: =I17-E17 -> -49881599375 | I17: 1720915178 | K17: 4990000 | M17: 51602514553 | O17: =Q17-M17 -> -49918400625 | Q17: 1684113928
A18: ح.تامین سرمایه کیمیا | C18: 1706447914 | E18: 1933641249406 | G18: =I18-E18 -> -875407779883 | I18: 1058233469523 | K18: 1706447914 | M18: 1933641249406 | O18: =Q18-M18 -> -875407779883 | Q18: 1058233469523
A19: مرابحه عام دولت186-ش.خ051124 | C19: 10000 | E19: 9513098000 | G19: =I19-E19 -> -9427060422 | I19: 86037578 | K19: 10000 | M19: 9513098000 | O19: =Q19-M19 -> -9609962175 | Q19: -96864175
A20: جمع | C20: =SUM(C8:C19) -> 8423009953 | E20: =SUM(E8:E19) -> 73267863609485 | G20: =SUM(G8:G19) -> -65000996853005 | I20: =SUM(I8:I19) -> 8266866756480 | K20: =SUM(K8:K19) -> 8423009953 | M20: =SUM(M8:M19) -> 73267863609485 | O20: =SUM(O8:O19) -> -43942458857731 | Q20: =SUM(Q8:Q19) -> 29325404751754
